BEGIN:VCALENDAR
VERSION:2.0
PRODID:https://github.com/derhansen/sf_event_mgt
METHOD:PUBLISH
BEGIN:VEVENT
UID:2565-48@www.agh.edu.pl
CLASS: PUBLIC
SUMMARY:NeuroMet 2026
DESCRIPTION:W trakcie seminarium zaprezentowane zostaną wyniki prac badawcz
 ych i wdrożeniowych, a także projektów realizowanych przez doktorantów i do
 ktorantki. Zakres tematyczny prezentacji obejmie szeroko rozumiane uczenie 
 maszynowe, Industry 4.0, analizę danych oraz optymalizację. \n\nJęzyk preze
 ntacji: polski\n\nUdział w seminarium jest bezpłatny. Rejestracja odbywa si
 ę za pomocą formularza.\n\nOrganizatorem NeuroMet jest Katedra Informatyki 
 Stosowanej i Modelowania na Wydziale Inżynierii Metali i Informatyki Przemy
 słowej.\n\nSzczegółowe informacje
DTSTAMP:20260226T095641Z
DTSTART:20260416T070000Z
DTEND:20260416T130000Z
END:VEVENT
END:VCALENDAR