BEGIN:VCALENDAR
VERSION:2.0
PRODID:https://github.com/derhansen/sf_event_mgt
METHOD:PUBLISH
BEGIN:VEVENT
UID:2765-160@www.agh.edu.pl
CLASS: PUBLIC
SUMMARY:AGH IT Future Day
DESCRIPTION:The AGH IT Future Day is aimed primarily at students of compute
 r science, as well as companies and organisations seeking young talent in t
 he field of new technologies.\n\nParticipants can look forward to:\n\n 	tal
 ks and panel discussions featuring leading figures in the fields of AI, cyb
 ersecurity and DevOps 	workshops offering practical, expert knowledge 	netw
 orking, an opportunity to meet and exchange experiences with the worlds of 
 science and business. \n\nThe event offers an opportunity to discover the l
 atest trends in IT, including AI-based tools and advanced IT systems. It wi
 ll address the industry’s most pressing issues, such as AI & Data, infrastr
 ucture and systems, cybersecurity, and future innovations.\n\nThe AGH IT Fu
 ture Day is organised by the Try IT Foundation, the Student Affairs Centre,
  and the Student Government at the Faculty of Computer Science.\n\nFor more
  information, see the website of the AGH IT Future Day.
DTSTAMP:20260417T120151Z
DTSTART:20260512T020000Z
DTEND:20260512T160000Z
END:VEVENT
END:VCALENDAR