BEGIN:VCALENDAR
VERSION:2.0
PRODID:https://github.com/derhansen/sf_event_mgt
METHOD:PUBLISH
BEGIN:VEVENT
UID:2474-160@www.agh.edu.pl
CLASS: PUBLIC
SUMMARY:8th Student Science Conference
DESCRIPTION:The conference is organised under the Black Sector of the AGH U
 niversity Student Research Clubs. All interested students are highly encour
 aged to participate.\n\nAgenda\n\n 	opening: building D-10, room A, 8.30am 
 	thematic sessions: AGH University Student Construction Centre, 10am to 3pm
  	closing and awarding of diplomas: building D-7, room 015 \n\nA new featur
 e this year will be a poster session, which will enable the presentation of
  research results in the form of posters.\n\nFor more information, go to th
 e website of the conference.
DTSTAMP:20251117T123638Z
DTSTART:20251118T030000Z
DTEND:20251119T160000Z
END:VEVENT
END:VCALENDAR